BEGIN:VCALENDAR
VERSION:2.0
PRODID:-//Pulse of Tasmania - ECPv5.4.0//NONSGML v1.0//EN
CALSCALE:GREGORIAN
METHOD:PUBLISH
X-WR-CALNAME:Pulse of Tasmania
X-ORIGINAL-URL:https://www.pulseoftasmania.com.au
X-WR-CALDESC:Events for Pulse of Tasmania
BEGIN:VTIMEZONE
TZID:Australia/Hobart
BEGIN:STANDARD
TZOFFSETFROM:+1100
TZOFFSETTO:+1000
TZNAME:AEST
DTSTART:20210403T160000
END:STANDARD
BEGIN:DAYLIGHT
TZOFFSETFROM:+1000
TZOFFSETTO:+1100
TZNAME:AEDT
DTSTART:20211002T160000
END:DAYLIGHT
END:VTIMEZONE
BEGIN:VEVENT
DTSTART;TZID=Australia/Hobart:20210313T063000
DTEND;TZID=Australia/Hobart:20210313T073000
DTSTAMP:20210301T073837
CREATED:20210225T222447Z
LAST-MODIFIED:20210225T222447Z
UID:630-1615617000-1615620600@www.pulseoftasmania.com.au
SUMMARY:BRO Fit run club
DESCRIPTION:Bro Fit is a family-based gym in Rosny Park\, Hobart focusing on creating a community of healthy\, mobile and strong people. Who aim to have fun while providing a safe\, motivating environment where you can be challenged and develop your mind and body.
URL:https://www.pulseoftasmania.com.au/event/bro-fit-run-club-4/
LOCATION:TBC
CATEGORIES:Hobart,South
END:VEVENT
END:VCALENDAR