BEGIN:VCALENDAR
VERSION:2.0
PRODID:-//Pulse of Tasmania - ECPv5.4.0//NONSGML v1.0//EN
CALSCALE:GREGORIAN
METHOD:PUBLISH
X-WR-CALNAME:Pulse of Tasmania
X-ORIGINAL-URL:https://www.pulseoftasmania.com.au
X-WR-CALDESC:Events for Pulse of Tasmania
BEGIN:VTIMEZONE
TZID:Australia/Hobart
BEGIN:STANDARD
TZOFFSETFROM:+1100
TZOFFSETTO:+1000
TZNAME:AEST
DTSTART:20210403T160000
END:STANDARD
BEGIN:DAYLIGHT
TZOFFSETFROM:+1000
TZOFFSETTO:+1100
TZNAME:AEDT
DTSTART:20211002T160000
END:DAYLIGHT
END:VTIMEZONE
BEGIN:VEVENT
DTSTART;TZID=Australia/Hobart:20210301T180000
DTEND;TZID=Australia/Hobart:20210301T190000
DTSTAMP:20210301T073007
CREATED:20210225T213619Z
LAST-MODIFIED:20210225T213619Z
UID:566-1614621600-1614625200@www.pulseoftasmania.com.au
SUMMARY:Launceston Bike Buddies (BYO Bike)
DESCRIPTION:Launceston Bike Buddies is a social cycling group in Launceston who conduct weekly cycle sessions. Bring your bike and cycle with a group.
URL:https://www.pulseoftasmania.com.au/event/launceston-bike-buddies-byo-bike-4/
LOCATION:Launceston City Park - Cimitiere Street entrance\, 45-55 Tamar St\, Launceston\, Tas\, 7250\, Australia
CATEGORIES:Launceston,North
END:VEVENT
END:VCALENDAR