BEGIN:VCALENDAR
VERSION:2.0
PRODID:-//Pulse of Tasmania - ECPv5.4.0//NONSGML v1.0//EN
CALSCALE:GREGORIAN
METHOD:PUBLISH
X-WR-CALNAME:Pulse of Tasmania
X-ORIGINAL-URL:https://www.pulseoftasmania.com.au
X-WR-CALDESC:Events for Pulse of Tasmania
BEGIN:VTIMEZONE
TZID:Australia/Hobart
BEGIN:STANDARD
TZOFFSETFROM:+1100
TZOFFSETTO:+1000
TZNAME:AEST
DTSTART:20210403T160000
END:STANDARD
BEGIN:DAYLIGHT
TZOFFSETFROM:+1000
TZOFFSETTO:+1100
TZNAME:AEDT
DTSTART:20211002T160000
END:DAYLIGHT
END:VTIMEZONE
BEGIN:VEVENT
DTSTART;TZID=Australia/Hobart:20210228T103000
DTEND;TZID=Australia/Hobart:20210228T120000
DTSTAMP:20210301T072912
CREATED:20210225T213233Z
LAST-MODIFIED:20210225T213234Z
UID:562-1614508200-1614513600@www.pulseoftasmania.com.au
SUMMARY:Picklebell Tasmania
DESCRIPTION:Picklebell is a curious cross between tennis\, badminton and table tennis. Pickleball requires players to move back and forth within a square and hit a ball over a net with a paddle. The main difference is that you must serve underarm. For more information contact Rob Cooper 0421 250 479
URL:https://www.pulseoftasmania.com.au/event/picklebell-tasmania/
LOCATION:Port Huon Sports & Aquatic Centre\, 4421 Huon Highway\, Port Huon\, Tasmania\, Australia
CATEGORIES:Hobart,South
END:VEVENT
END:VCALENDAR