BEGIN:VCALENDAR
VERSION:2.0
PRODID:-//Pulse of Tasmania - ECPv5.4.0//NONSGML v1.0//EN
CALSCALE:GREGORIAN
METHOD:PUBLISH
X-WR-CALNAME:Pulse of Tasmania
X-ORIGINAL-URL:https://www.pulseoftasmania.com.au
X-WR-CALDESC:Events for Pulse of Tasmania
BEGIN:VTIMEZONE
TZID:Australia/Hobart
BEGIN:STANDARD
TZOFFSETFROM:+1100
TZOFFSETTO:+1000
TZNAME:AEST
DTSTART:20210403T160000
END:STANDARD
BEGIN:DAYLIGHT
TZOFFSETFROM:+1000
TZOFFSETTO:+1100
TZNAME:AEDT
DTSTART:20211002T160000
END:DAYLIGHT
END:VTIMEZONE
BEGIN:VEVENT
DTSTART;TZID=Australia/Hobart:20210304T173000
DTEND;TZID=Australia/Hobart:20210304T183000
DTSTAMP:20210301T073044
CREATED:20210225T214209Z
LAST-MODIFIED:20210225T214209Z
UID:575-1614879000-1614882600@www.pulseoftasmania.com.au
SUMMARY:Trojan academy - (4 years to 13 years)
DESCRIPTION:Trojan Academy is dedicated to delivering you the best possible instruction in a fun\, safe\, friendly environment for all levels of fitness\, skill and age. Focusing on Brazilian Jiu Jitsu\, which is considered to be one of the best martial arts for self-defense. Also offering Muay Thai which incorporates stand up striking techniques including punches\, kicks\, knee\, elbows and clinching techniques.
URL:https://www.pulseoftasmania.com.au/event/trojan-academy-4-years-to-13-years/
LOCATION:Trojan Academy\, Unit 2/37 Ascot Dr\, Huntingfield\, TAS\, 7055\, Australia
CATEGORIES:Hobart,South
END:VEVENT
END:VCALENDAR